BEGIN:VCALENDAR
VERSION:2.0
PRODID:-//Opplev Nesodden - ECPv6.0.6.2//NONSGML v1.0//EN
CALSCALE:GREGORIAN
METHOD:PUBLISH
X-WR-CALNAME:Opplev Nesodden
X-ORIGINAL-URL:https://opplevnesodden.no
X-WR-CALDESC:Events for Opplev Nesodden
REFRESH-INTERVAL;VALUE=DURATION:PT1H
X-Robots-Tag:noindex
X-PUBLISHED-TTL:PT1H
BEGIN:VTIMEZONE
TZID:Europe/Oslo
BEGIN:DAYLIGHT
TZOFFSETFROM:+0100
TZOFFSETTO:+0200
TZNAME:CEST
DTSTART:20250330T010000
END:DAYLIGHT
BEGIN:STANDARD
TZOFFSETFROM:+0200
TZOFFSETTO:+0100
TZNAME:CET
DTSTART:20251026T010000
END:STANDARD
END:VTIMEZONE
BEGIN:VEVENT
DTSTART;TZID=Europe/Oslo:20250320T180000
DTEND;TZID=Europe/Oslo:20250320T191500
DTSTAMP:20260417T140620
CREATED:20250312T132310Z
LAST-MODIFIED:20250312T133135Z
UID:4785-1742493600-1742498100@opplevnesodden.no
SUMMARY:Sørgelige greier
DESCRIPTION:«Sørgelige greier» er et teaterstykke om og med etterlatte etter selvmord\, skrevet av dramatiker Morten Lorentzen. En nær og ærlig\, humoristisk og alvorlig forestilling om de som er igjen\, om de som skal leve videre. Et lite bidrag inn mot økt åpenhet rundt et komplisert og muligens forsømt tema. På scenen står tre skuespillere og en musiker\, som alle selv er etterlatte. \n\n\n\nLink til nettside for billettsalg\n\n\n\nhttps://fb.me/e/3HB5KhMZD
URL:https://opplevnesodden.no/event/sorgelige-greier/
LOCATION:Nesodden Kommune – Biblioteket\, Kongleveien 2\, Nesoddtangen\, 1451\, Norway
ATTACH;FMTTYPE=image/jpeg:https://opplevnesodden.no/wp-content/uploads/2025/03/plakat_tittel.jpg
END:VEVENT
END:VCALENDAR