BEGIN:VCALENDAR
VERSION:2.0
PRODID:-//Opplev Nesodden - ECPv6.0.6.2//NONSGML v1.0//EN
CALSCALE:GREGORIAN
METHOD:PUBLISH
X-WR-CALNAME:Opplev Nesodden
X-ORIGINAL-URL:https://opplevnesodden.no
X-WR-CALDESC:Events for Opplev Nesodden
REFRESH-INTERVAL;VALUE=DURATION:PT1H
X-Robots-Tag:noindex
X-PUBLISHED-TTL:PT1H
BEGIN:VTIMEZONE
TZID:Europe/Oslo
BEGIN:DAYLIGHT
TZOFFSETFROM:+0100
TZOFFSETTO:+0200
TZNAME:CEST
DTSTART:20250330T010000
END:DAYLIGHT
BEGIN:STANDARD
TZOFFSETFROM:+0200
TZOFFSETTO:+0100
TZNAME:CET
DTSTART:20251026T010000
END:STANDARD
END:VTIMEZONE
BEGIN:VEVENT
DTSTART;TZID=Europe/Oslo:20250301T120000
DTEND;TZID=Europe/Oslo:20250302T160000
DTSTAMP:20260421T110946
CREATED:20250226T074758Z
LAST-MODIFIED:20250226T074758Z
UID:4706-1740830400-1740931200@opplevnesodden.no
SUMMARY:Naturformasjoner; Pakarklyte\, Redvall\, Bøckmann.
DESCRIPTION:Ny utstilling i Nesodden kunstforening!\nÅpningen finner sted 1. mars kl 12.15.\nVi har den glede å få presentere tre eminente kunstnere som alle bor og arbeider på Nesodden\, hver med sitt unike uttrykk.\nRUTA PAKARKLYTE\, utdannet ved Vilnius Academy of Arts og Oslo National Academy of Art and Design. Hun har deltatt på en rekke soloutstillinger og gruppeutstillinger i inn- og utland og er innkjøpt av flere offentlige institusjoner. Hun arbeider hovedsaklig med porselen. Skulpturene hun vil vise i Galleri Vanntårnet dreier seg om vekst\, transformasjon og frihet.\nMALIN REDVALL er utdannet ved Musikerhøyskolen i Gøteborg og har arbeidet med mange teknikker innen kunst. I denne utstillingen viser hun abstrakte akvareller der pigmentene som blandes med vannet følger naturens lover\, slik det har gjort i millioner av år. Naturlig bevegelse avgrenses av store\, rolige former som kan virke som de svever\, beskriver hun med egne ord.\nMARIANNE BØCKMANN er utdannet metall- og tekstilkunstner ved Kunsthøyskolen i Oslo. Mange kjenner til hennes smykker og lamper. I utstillingen vil hun presentere håndformede beholdere i leire\, med glasurer laget av naturmaterialer fra ulike tresorter. Samtidig vil hun vise tegninger i serien Forvitring.\nEt spennende trekløver i Galleri Vanntårnet\, med sine ulike erfaringer med og i naturen\, med likheter og forskjeller\, men felles for alle en tilnærming til naturens former og bevegelse på det ytre og indre plan.\nProgram:\nCa. 12. 20: Alle ønskes velkommen. Kunstnerne forteller om verkene.\nCa. 12.35: Musikkkomposisjon av MALIN REDVALL. \nHjertelig velkommen til selv å oppleve dette!\nUtstillingen vil være åpen fra 12-16\, lørdag og søndag
URL:https://opplevnesodden.no/event/naturformasjoner-pakarklyte-redvall-bockmann/
LOCATION:Galleri Vanntårnet\, Tårnstien\, Kongleveien 2\, Nesoddtangen\, 1452\, Norge
ATTACH;FMTTYPE=image/jpeg:https://opplevnesodden.no/wp-content/uploads/2025/02/natur.11.jpg
END:VEVENT
BEGIN:VEVENT
DTSTART;TZID=Europe/Oslo:20250301T200000
DTEND;TZID=Europe/Oslo:20250301T230000
DTSTAMP:20260421T110946
CREATED:20250226T132015Z
LAST-MODIFIED:20250226T132015Z
UID:4726-1740859200-1740870000@opplevnesodden.no
SUMMARY:AUDUN B-GJENGEN
DESCRIPTION:Audun B-GJENGEN! De har spilt sammen siden mai 2023 for å ha et innslag til yngstemann 50-årslag. \nDette forteller de: Vi hadde egentlig avtalt over et år i forveien at vi burde starte band\, siden skjebnen hadde ført oss alle 3 Audun B’er inn som fedre til barn i samme ungdomsskoleklasse. Oktober 2023 hadde vi 4 hjemmesnekra låter til stuekonsert hos en Audun B\, og tross veldig skranglete framføring fikk vi tilbud om å spille på en liten pønkefestival i Horten\, bare vi skaffa oss trommis og fikk øvd mer. Vi prøvde da en stund å rekvirere en 4. Audun B på trommer\, men han valgte å ikke bli med og 7 uker før Grinebiteren fant vi ut at en av oss måtte bli trommis\, så det blei bassisten på det tidspunktet\, mens den ene gitaristen måtte omskoleres til bassist. Denne spillemuligheten var avgjørende for at vi holdt fokus og ville forbedre oss. I juni spilte vi på en venners-venner fest/festival på Skuterud. Ellers har vi holdt et par andre stuekonserter for 30-40 mennesker\, men Vertshuset vil nok gi ny publikumsrekord for Audun B-gjengen. \nBesetninga er som følger Audun Bjerknes- trommer\, Audun Bødtker- bassog Audun Burmann – gitar og mest aktiv på vokal. \nAlle låter er hjemmesnekra i sjangeren pappapønk – oppdragende\, bekymra og moraliserende\, med en del spark oppover mot mektige menn og slett moral\, forhåpentligvis med litt ironisk tilsnitt.\nVelkommen!
URL:https://opplevnesodden.no/event/audun-b-gjengen/
LOCATION:Nesodden Vertshus\, Lyngåsveien 24\, 1452 Nesoddtangen
ATTACH;FMTTYPE=image/jpeg:https://opplevnesodden.no/wp-content/uploads/2025/02/audun-b.jpg
END:VEVENT
BEGIN:VEVENT
DTSTART;TZID=Europe/Oslo:20250301T201500
DTEND;TZID=Europe/Oslo:20250301T223000
DTSTAMP:20260421T110946
CREATED:20250122T073833Z
LAST-MODIFIED:20250122T073833Z
UID:4556-1740860100-1740868200@opplevnesodden.no
SUMMARY:Maarud / Raknes / Vespestad Trio
DESCRIPTION:Maarud\, Raknes og Vespestad er en helt unik trio. Bare historikken deres vil få den sindigste musikkelsker til å sette kaffen i halsen. Nå har de slått seg sammen og blitt en trio der blues\, rock\, jazz og spilleglede motes i en høyere\, og lavere\, enhet. Det er lekent\, det er utfordrende\, det er rytmisk inspirerende\, det er øs\, pøs\, melodiøst og dynamisk.\nSteinar Raknes er en av Norges fremste kontrabassister\, og er også vokalist og låtskriver. Raknes har vært en sentral skikkelse innenfor norsk jazz de siste 25 årene\, med en virtuos spillestil og elektronisk eksperimentering.\nAmund Maarud er gitarhelten som elsker å tøye sjangerbåser. Den prisbelente artisten omtales som skaperen av norsk nu-blues.\nJarle Vespestad er en norsk jazzlegende kjent fra blant annet Farmers Market\, Silje Nergård\, Stian Carstensen og Tord Gustavsen. \nFoto: Hans A. Vedlog.\nKonserten er støttet av Norsk Kulturråd og Nesodden kommune
URL:https://opplevnesodden.no/event/maarud-raknes-vespestad-trio/
LOCATION:Flasken Kjøkken & Bar\, Kapellveien 84\, 1450 Nesoddtangen
ATTACH;FMTTYPE=image/jpeg:https://opplevnesodden.no/wp-content/uploads/2025/01/Maarud-Raknes-Vespestad.jpg
END:VEVENT
END:VCALENDAR