BEGIN:VCALENDAR
VERSION:2.0
PRODID:-//Opplev Nesodden - ECPv6.0.6.2//NONSGML v1.0//EN
CALSCALE:GREGORIAN
METHOD:PUBLISH
X-WR-CALNAME:Opplev Nesodden
X-ORIGINAL-URL:https://opplevnesodden.no
X-WR-CALDESC:Events for Opplev Nesodden
REFRESH-INTERVAL;VALUE=DURATION:PT1H
X-Robots-Tag:noindex
X-PUBLISHED-TTL:PT1H
BEGIN:VTIMEZONE
TZID:Europe/Oslo
BEGIN:DAYLIGHT
TZOFFSETFROM:+0100
TZOFFSETTO:+0200
TZNAME:CEST
DTSTART:20250330T010000
END:DAYLIGHT
BEGIN:STANDARD
TZOFFSETFROM:+0200
TZOFFSETTO:+0100
TZNAME:CET
DTSTART:20251026T010000
END:STANDARD
END:VTIMEZONE
BEGIN:VEVENT
DTSTART;TZID=Europe/Oslo:20250215T120000
DTEND;TZID=Europe/Oslo:20250216T160000
DTSTAMP:20260421T105234
CREATED:20250210T084938Z
LAST-MODIFIED:20250210T090316Z
UID:4646-1739620800-1739721600@opplevnesodden.no
SUMMARY:CORPUS. Skulptur og figurer.
DESCRIPTION:UTSTILLINGEN ER UTVIDET MED EN EKSTRA HELG!\nKom og se utstillingen CORPUS i Nesodden kunstforening. Tormod Lindgren\, kjent dukkemaker\, har omskapt Galleri Vanntårnet til å bli et eventyr\, med sin sans for scenografi og ulike karakterer. I tårnet får vi oppleve hans mangeårige arbeid med figurteater\, her er det dramatikk\, poesi og historiefortelling i flere etasjer. Dette må oppleves\, velkommen!
URL:https://opplevnesodden.no/event/corpus-skulptur-og-figurer/
LOCATION:Galleri Vanntårnet\, Tårnstien\, Kongleveien 2\, Nesoddtangen\, 1452\, Norge
ATTACH;FMTTYPE=image/jpeg:https://opplevnesodden.no/wp-content/uploads/2025/02/TL-ny.jpg
END:VEVENT
END:VCALENDAR