BEGIN:VCALENDAR
VERSION:2.0
PRODID:-//Opplev Nesodden - ECPv6.0.6.2//NONSGML v1.0//EN
CALSCALE:GREGORIAN
METHOD:PUBLISH
X-WR-CALNAME:Opplev Nesodden
X-ORIGINAL-URL:https://opplevnesodden.no
X-WR-CALDESC:Events for Opplev Nesodden
REFRESH-INTERVAL;VALUE=DURATION:PT1H
X-Robots-Tag:noindex
X-PUBLISHED-TTL:PT1H
BEGIN:VTIMEZONE
TZID:Europe/Oslo
BEGIN:DAYLIGHT
TZOFFSETFROM:+0100
TZOFFSETTO:+0200
TZNAME:CEST
DTSTART:20240331T010000
END:DAYLIGHT
BEGIN:STANDARD
TZOFFSETFROM:+0200
TZOFFSETTO:+0100
TZNAME:CET
DTSTART:20241027T010000
END:STANDARD
END:VTIMEZONE
BEGIN:VEVENT
DTSTART;TZID=Europe/Oslo:20241219T193000
DTEND;TZID=Europe/Oslo:20241219T193000
DTSTAMP:20260421T105306
CREATED:20241126T144523Z
LAST-MODIFIED:20241126T144523Z
UID:4452-1734636600-1734636600@opplevnesodden.no
SUMMARY:Operapub
DESCRIPTION:Er du nysgjerrig på opera er dette stedet å være. Her er det nydelige sanger blandet med mye skravling og kos. Det blir julespesial med overraskelse. Husk å booke bord på hei@annashybel.no
URL:https://opplevnesodden.no/event/operapub/
LOCATION:Annas Hybel\, Fjellstrandveien 1\, Fjellstrand\, 1458\, Norge
ATTACH;FMTTYPE=image/jpeg:https://opplevnesodden.no/wp-content/uploads/2024/11/FB_IMG_1732631743120.jpg
END:VEVENT
END:VCALENDAR