BEGIN:VCALENDAR
VERSION:2.0
PRODID:-//Opplev Nesodden - ECPv6.0.6.2//NONSGML v1.0//EN
CALSCALE:GREGORIAN
METHOD:PUBLISH
X-WR-CALNAME:Opplev Nesodden
X-ORIGINAL-URL:https://opplevnesodden.no
X-WR-CALDESC:Events for Opplev Nesodden
REFRESH-INTERVAL;VALUE=DURATION:PT1H
X-Robots-Tag:noindex
X-PUBLISHED-TTL:PT1H
BEGIN:VTIMEZONE
TZID:Europe/Oslo
BEGIN:DAYLIGHT
TZOFFSETFROM:+0100
TZOFFSETTO:+0200
TZNAME:CEST
DTSTART:20240331T010000
END:DAYLIGHT
BEGIN:STANDARD
TZOFFSETFROM:+0200
TZOFFSETTO:+0100
TZNAME:CET
DTSTART:20241027T010000
END:STANDARD
END:VTIMEZONE
BEGIN:VEVENT
DTSTART;TZID=Europe/Oslo:20241130T120000
DTEND;TZID=Europe/Oslo:20241215T160000
DTSTAMP:20260421T103629
CREATED:20241126T120238Z
LAST-MODIFIED:20241129T100651Z
UID:4447-1732968000-1734278400@opplevnesodden.no
SUMMARY:Medlemsutstilling 2024
DESCRIPTION:For en glede det er for oss i styret i Nesodden Kunstforening å ønske deg velkommen til\nMedlemsutstilling 2024 med Vernissage lørdag 30.november kl.12.00.\nDette er det viktigste evenementet for Nesodden Kunstforening med gleden over å kunne invitere\ninn alle våre medlemmer til vår årlige Medlemsutstilling.\nMedlemsutstillingen 2024 varer fra og med lørdag 30.november og til og med søndag 15.desember.\nKom til Galleri Vanntårnet – opplev og møt mange av våre kunstnere fra vårt lokalmiljø her på\nNesodden. I år kan vi melde en rekordstor deltakelse; 67 medlemmer og 106 arbeider. En spesiell\nmulighet til julehandel av ekte og varige gaver innen billedkunst\, skulpturer\, foto\, smykker\, tekstil og\nkeramikk. I kafeen selges glo-ferske vafler\, kaffe og saft. Vi har også rebus til de yngste og en gratis\nvaffel i premie for rette svar.\nProgram lørdag 30.november fra kl.12.00:\nVelkommen ved styreleder Søgnhild Østvold Vikene\nMusikkinnslag med musiker\, komponist og universitetslektor Daniel Lacey
URL:https://opplevnesodden.no/event/medlemsutstillin-2024/
LOCATION:Galleri Vanntårnet\, Tårnstien\, Kongleveien 2\, Nesoddtangen\, 1452\, Norge
ATTACH;FMTTYPE=image/jpeg:https://opplevnesodden.no/wp-content/uploads/2024/11/Medl-plakat.jpg
END:VEVENT
END:VCALENDAR