BEGIN:VCALENDAR
VERSION:2.0
PRODID:-//Opplev Nesodden - ECPv6.0.6.2//NONSGML v1.0//EN
CALSCALE:GREGORIAN
METHOD:PUBLISH
X-WR-CALNAME:Opplev Nesodden
X-ORIGINAL-URL:https://opplevnesodden.no
X-WR-CALDESC:Events for Opplev Nesodden
REFRESH-INTERVAL;VALUE=DURATION:PT1H
X-Robots-Tag:noindex
X-PUBLISHED-TTL:PT1H
BEGIN:VTIMEZONE
TZID:Europe/Oslo
BEGIN:DAYLIGHT
TZOFFSETFROM:+0100
TZOFFSETTO:+0200
TZNAME:CEST
DTSTART:20240331T010000
END:DAYLIGHT
BEGIN:STANDARD
TZOFFSETFROM:+0200
TZOFFSETTO:+0100
TZNAME:CET
DTSTART:20241027T010000
END:STANDARD
END:VTIMEZONE
BEGIN:VEVENT
DTSTART;TZID=Europe/Oslo:20241123T171500
DTEND;TZID=Europe/Oslo:20241123T181500
DTSTAMP:20260423T114910
CREATED:20241117T105834Z
LAST-MODIFIED:20241117T105834Z
UID:4413-1732382100-1732385700@opplevnesodden.no
SUMMARY:Juliana Venter - Solo
DESCRIPTION:Vokalist Juliana Venter presenterer en solokonsert for stemme. Hun vil ta publikum på en musikalsk reise som spenner fra Sør-Afrika (hvor hun er fra) til sine reiser gjennom verden som innvandrer og de mange kulturene hun har lært av og blitt inspirert av. Fra township jazz til kormusikken til de sionistiske kirkene. Språkene som Xhosa og Zulu. Indisk Kathak\, klassisk musikk fra Tadsjikistan\, polyfonisk musikk fra Georgia\, norsk folkesang\, Kina og Japan og mye mer. \nJuliana Venter – stemmekunstner. \nKonserten er støttet av Norsk Kulturråd og Nesodden kommune.
URL:https://opplevnesodden.no/event/juliana-venter-solo/
LOCATION:Galleri Vanntårnet\, Tårnstien\, Kongleveien 2\, Nesoddtangen\, 1452\, Norge
ATTACH;FMTTYPE=image/jpeg:https://opplevnesodden.no/wp-content/uploads/2024/11/53034501_10217083520856351_6220893045991145472_o.jpg
END:VEVENT
END:VCALENDAR