BEGIN:VCALENDAR
VERSION:2.0
PRODID:-//Opplev Nesodden - ECPv6.0.6.2//NONSGML v1.0//EN
CALSCALE:GREGORIAN
METHOD:PUBLISH
X-WR-CALNAME:Opplev Nesodden
X-ORIGINAL-URL:https://opplevnesodden.no
X-WR-CALDESC:Events for Opplev Nesodden
REFRESH-INTERVAL;VALUE=DURATION:PT1H
X-Robots-Tag:noindex
X-PUBLISHED-TTL:PT1H
BEGIN:VTIMEZONE
TZID:Europe/Oslo
BEGIN:DAYLIGHT
TZOFFSETFROM:+0100
TZOFFSETTO:+0200
TZNAME:CEST
DTSTART:20240331T010000
END:DAYLIGHT
BEGIN:STANDARD
TZOFFSETFROM:+0200
TZOFFSETTO:+0100
TZNAME:CET
DTSTART:20241027T010000
END:STANDARD
END:VTIMEZONE
BEGIN:VEVENT
DTSTART;TZID=Europe/Oslo:20241122T200000
DTEND;TZID=Europe/Oslo:20241122T200000
DTSTAMP:20260421T120605
CREATED:20241119T141404Z
LAST-MODIFIED:20241119T141404Z
UID:4429-1732305600-1732305600@opplevnesodden.no
SUMMARY:Konnsert med Maria & Dick Willy's
DESCRIPTION:Maria og Dick Willy’s kommer tilbake. Her blir det rock\, funk\, en og annen ballade og et hint av jazz. Ja rett og slett show av godt gammelt merke.
URL:https://opplevnesodden.no/event/konnsert-med-maria-dick-willys/
LOCATION:Annas Hybel\, Fjellstrandveien 1\, Fjellstrand\, 1458\, Norge
ATTACH;FMTTYPE=image/jpeg:https://opplevnesodden.no/wp-content/uploads/2024/11/FB_IMG_1732021794373.jpg
END:VEVENT
END:VCALENDAR